BEGIN:VCALENDAR
VERSION:2.0
PRODID:-//Municipal Council of Manzini - ECPv5.0.3.1//NONSGML v1.0//EN
CALSCALE:GREGORIAN
METHOD:PUBLISH
X-WR-CALNAME:Municipal Council of Manzini
X-ORIGINAL-URL:https://manzinicity.co.sz
X-WR-CALDESC:Events for Municipal Council of Manzini
BEGIN:VTIMEZONE
TZID:Africa/Mbabane
BEGIN:STANDARD
TZOFFSETFROM:+0200
TZOFFSETTO:+0200
TZNAME:SAST
DTSTART:20240101T000000
END:STANDARD
END:VTIMEZONE
BEGIN:VEVENT
DTSTART;TZID=Africa/Mbabane:20240314T170000
DTEND;TZID=Africa/Mbabane:20240314T170000
DTSTAMP:20260421T084104
CREATED:20240307T050730Z
LAST-MODIFIED:20240307T050730Z
UID:8444-1710435600-1710435600@manzinicity.co.sz
SUMMARY:Ward 8: Wards Integrated Development Plan (IPD) Consultation Meeting
DESCRIPTION:Ward 8 (Madonsa\, Thomasdale\, Extension 6\, Mangwaneni\, Tisuka village); \nDate: Thursday\, 14th March 2024; \nVenue: Living Waters School; \nTime: 5pm \n
URL:https://manzinicity.co.sz/event/ward-8-wards-integrated-development-plan-ipd-consultation-meeting/
LOCATION:Living Waters School\, Manzini\, Swaziland
ORGANIZER;CN="Manzini%20Municipality":MAILTO:sddasd
END:VEVENT
END:VCALENDAR